Workbook
Name _16_неделя_2021: #REF!
Name a: #REF!
Name ALVPRX: #REF!
Name ALVPRX: #REF!
Name ALVPRX: #REF!
Name art: #REF!
Name art: #REF!
Name art: #REF!
Name ast: #REF!
Name astkl: #REF!
Name astsk: #REF!
Name astsklad: #REF!
Name bron: #REF!
Name can: #REF!
Name can: #REF!
Name can: #REF!
Name canada: #REF!
Name cher: #REF!
Name cher: #REF!
Name cher: #REF!
Name cheras: #REF!
Name chercher: #REF!
Name cherhug: #REF!
Name cherp: #REF!
Name cherr: #REF!
Name chertab: #REF!
Name chertab: #REF!
Name chertab: #REF!
Name CHUR: #REF!
Name COMPALV: #REF!
Name COMPALV: #REF!
Name COMPALV: #REF!
Name dost: #REF!
Name dost: #REF!
Name dost: #REF!
Name Excel_BuiltIn_Print_Area_2: #REF!
Name Excel_BuiltIn_Print_Area_2: #REF!
Name Excel_BuiltIn_Print_Area_2: #REF!
Name Excel_BuiltIn_Print_Area_2_1: #REF!
Name Excel_BuiltIn_Print_Area_2_1: #REF!
Name Excel_BuiltIn_Print_Area_2_1: #REF!
Name Excel_BuiltIn_Print_Area_2_1_1: #REF!
Name Excel_BuiltIn_Print_Area_2_1_1: #REF!
Name Excel_BuiltIn_Print_Area_2_1_1: #REF!
Name fff: #REF!
Name fff: #REF!
Name fff: #REF!
Name ffive: #REF!
Name ffive: #REF!
Name ffive: #REF!
Name fin: #REF!
Name fin: #REF!
Name fin: #NAME?
Name final: #REF!
Name final: #REF!
Name final: #NAME?
Name five: #REF!
Name five: #REF!
Name five: #REF!
Name ger: #REF!

Sheet 2026
A1: 46311
M2: ПИОНЫ с ОКС - ОСЕНЬ 2026 | V2: Подпишитесь на наш телеграм-канал, чтобы всегда быть в курсе последних новостей, предложений и акций:
V3: https://t.me/plantmarket_russia
M6: Перед оформлением заказа, пожалуйста, ознакомьтесь с условиями работы и подтвердите своё согласие с ними:
L7: >>> Условия работы <<<
N8: с условиями работы ознакомлен и принимаю их | O8: нет
F10: Адрес склада: Владимирская область, Киржачский район, пос. Знаменское | T10: 102.7693 | V10: Курс ЦБ РФ+9 ₽
F11: Производство: Европа, Россия | T11: не выбрано | V11: ← Выберите период отгрузки
F12: Приём заказов до 13.11.2026 | T12: =SUM(S38:S458) -> 0 | V12: Количество корней
F13: Выдача заказов: 46-48 нед. (с 9 ноября 2026), 7 нед. (08-14 февраля 2027) с зим. хранением, 11 нед. (08-14 марта 2027) с зим. хранением | T13: =ROUNDUP(SUM(T38:T458),0) -> 0 | V13: Количество ящиков (ориентировочное)
T14: =SUMIF(D35:D458,"евро",U35:U458) -> 0 | V14: Сумма заказа Нидерланды
F15: Общий минимальный заказ на корни: 500 €. При заказе корней от 350-499 € действует торговая надбавка 15% | T15: =SUMIF(D35:D458,"руб",U35:U458) -> 0 | V15: Сумма заказа Россия
F16: Кратность заказа на сорт: 5 шт (на некоторые сорта возможен заказ 1 / 3 шт на сорт) | T16: =IF(T14+T15/T10>=5000,"-5%",IF(T14+T15/T10>=3000,"-4%",IF(T14+T15/T10>=2000,"-3%",IF(T14+T15/T10>=1500,"-2%",IF(T14+T15/T10>=1000,"-1%",IF(AND(T14+T15/T10<500,T14+T15/T10>0),"+15%",0)))))) -> 0 | V16: Скидка/надбавка за объем
F17: Вместимость в ящик может измениться. В случае изменений, заказ повторно согласуется с покупателем. | T17: =IF(T11="7 неделя 2027 (08.02-14.02) с зимним хранением",ROUNDUP(T13,0)*13*3.5,IF(T11="11 неделя 2027 (09.03-14.03) с зимним хранением",ROUNDUP(T13,0)*13*4.5,0)) -> 0 | V17: Хранение
T18: =T14+T14*T16 -> 0 | V18: Сумма за растения со скидкой Нидерланды
F19: Предоплата 100% | T19: =T15+T15*T16 -> 0 | V19: Сумма за растения со скидкой Россия
F20: Оплата производится в рублях по курсу = ЦБ РФ+9 ₽ на момент зачисления денежных средств на наш р/сч | T20: =T18+T19/T10+T17 -> 0 | V20: Общая сумма заказа (евро)
T21: =T19+T18*T10+T17*T10 -> 0 | V21: Общая сумма заказа (руб)
F22: Система скидок: при заказе растений более 1000 € - 1%, 1500 € - 2%, 2000 € - 3%, 3000 € - 4%, 5000 € - 5%
F23: Упаковка: пластиковый ящик 60x40x30(25) - бесплатно | T23: =IF(COUNTIF(AF35:AF575,"Ошибка!")>0,"Пожалуйста, проверьте заказ на соблюдение кратности!","")
F24: Доставка до ближайшего к нашему складу терминала ТК: ПЭК, ЖелДорЭкспедиция, Вера-1 - бесплатно
F25: Новинка! На каждые 5 шт корней в заказе прилагается цветная этикетка/стикер с колышком - бесплатно (при заказе до 07.09.26, далее при свободном наличии доп. материалов)
F26: Доступна услуга зимнего хранения пионов.
F27: Гарантия сохранности пионов, в случае если на момент отгрузки корней, температурный режим в вашем регионе не будет подходить для посадки
E29: АКЦИЯ! C 07.10 по 19.10 на 9 позиций пионов действуют спец. цены на новый заказ или дозаказ по ним. Успейте!
E31: Дорогие партнеры, мы делаем всё возможное, чтобы как можно лучше обеспечить вас качественным посадочным материалом. И хотим честно вас предупредить, что при сильном изменении ситуации на рынке и в мире, которые могут повлечь за собой удорожание стоимости Транспортной перевозки и/или КДП, мы оставляем за собой право пересмотреть цены и условия по настоящему предложению в любое время до момента передачи вам товара.
E34: 👍 - лучшая цена!; ★ - топ продаж; 🆕- новинка предложения | L34: ИТО - ИТО-гибрид; МГ - Межвидовый гибрид; МЦв - Молочноцветковый | W34: Справочная информация по сорту
B35: *** | C35: Артикул | D35: Соглашение | E35: Палитра оттенков | F35: Вид | G35: Cорт | H35: Столбец1 | I35: Размер (глазков) | J35: Вместимость в ящик шт. | K35: Производство | L35: Цена при заказе от ящика | M35: Цена при заказе от 15 шт до ящика | N35: Цена при заказе 10 шт | O35: Цена при заказе 5 шт | P35: Акционная цена | Q35: Кратность заказа | R35: Доступно к заказу, шт | S35: Заказ корней, шт. ↓ | T35: Ящиков (рассчетно) | U35: Сумма | V35: Подтверждение | W35: Тип цветка | X35: Высота | Y35: Диаметр цветка | Z35: Аромат | AA35: Применение в срезке | AB35: Селекция | AC35: Особенность сорта
F36: Жемчужная коллекция (белые, кремовые оттенки)
F37: Сорта раннего срока цветения
C38: 87-110-0094 | D38: евро | F38: МГ | G38: Colonel Owen Cousins | I38: 2-3 | J38: 60 | K38: EU | L38: 26.12 | M38: 26.6 | N38: 27.37 | O38: 28.46 | Q38: 5 | R38: >100 | T38: =IF(S38/J38=0,"-",S38/J38) -> - | U38: =IF(S38<10,O38*S38,IF(S38<15,N38*S38,IF(S38<J38,M38*S38,L38*S38))) -> 0 | V38: в теч. 3-х дней после внесения аванса | W38: махровый бомбовидный | X38: 70-90 | Y38: 15-20 | Z38: 🎶 | AB38: 1972, Канада, Cousins L. | AC38: Призер в общем зачете на выставке CNB Dutch Peony Awards 2026 | AD38: =IF(MOD(Таблица33[[#This Row],[Заказ корней, шт. ↓]],Таблица33[[#This Row],[Кратность заказа]])>0,"Ошибка!","")
C39: 87-77-1419 | D39: евро | F39: МГ | G39: Colonel Owen Cousins | I39: 2-3 | J39: 50 | K39: EU | L39: 26.12 | M39: 26.6 | N39: 27.37 | O39: 28.46 | Q39: 5 | T39: =IF(S39/J39=0,"-",S39/J39) -> - | U39: =IF(S39<10,O39*S39,IF(S39<15,N39*S39,IF(S39<J39,M39*S39,L39*S39))) -> 0 | V39: приём заказов приостановлен | W39: махровый бомбовидный | X39: 70-90 | Y39: 15-20 | Z39: 🎶 | AB39: 1972, Канада, Cousins L. | AC39: Призер в общем зачете на выставке CNB Dutch Peony Awards 2026 | AD39: =IF(MOD(Таблица33[[#This Row],[Заказ корней, шт. ↓]],Таблица33[[#This Row],[Кратность заказа]])>0,"Ошибка!","")
C40: 87-110-0459 | D40: евро | F40: МГ | G40: Colonel Owen Cousins | H40: 🆕 | I40: 5-8 | J40: 20 | K40: EU | L40: 58.06 | M40: 58.62 | N40: 59.19 | O40: 60.96 | Q40: 1 | T40: =IF(S40/J40=0,"-",S40/J40) -> - | U40: =IF(S40<10,O40*S40,IF(S40<15,N40*S40,IF(S40<J40,M40*S40,L40*S40))) -> 0 | V40: приём заказов приостановлен | W40: махровый бомбовидный | X40: 70-90 | Y40: 15-20 | Z40: 🎶 | AB40: 1972, Канада, Cousins L. | AC40: Призер в общем зачете на выставке CNB Dutch Peony Awards 2026 | AD40: =IF(MOD(Таблица33[[#This Row],[Заказ корней, шт. ↓]],Таблица33[[#This Row],[Кратность заказа]])>0,"Ошибка!","")
C41: 87-110-0481 | D41: евро | F41: МГ | G41: Grand Massive | I41: 3-5 | J41: 35 | K41: EU | L41: 74.82 | M41: 75.54 | N41: 76.28 | O41: 78.56 | Q41: 1 | T41: =IF(S41/J41=0,"-",S41/J41) -> - | U41: =IF(S41<10,O41*S41,IF(S41<15,N41*S41,IF(S41<J41,M41*S41,L41*S41))) -> 0 | V41: приём заказов приостановлен | W41: махровый | AD41: =IF(MOD(Таблица33[[#This Row],[Заказ корней, шт. ↓]],Таблица33[[#This Row],[Кратность заказа]])>0,"Ошибка!","")
C42: 46-38-15710 | D42: руб | F42: МЦв | G42: Lancaster Imp | I42: 3-5 | J42: 40 | K42: RUS | L42: 578 | M42: 594 | N42: 605 | O42: 647 | Q42: 5 | T42: =IF(S42/J42=0,"-",S42/J42) -> - | U42: =IF(S42<10,O42*S42,IF(S42<15,N42*S42,IF(S42<J42,M42*S42,L42*S42))) -> 0 | V42: приём заказов приостановлен | AD42: =IF(MOD(Таблица33[[#This Row],[Заказ корней, шт. ↓]],Таблица33[[#This Row],[Кратность заказа]])>0,"Ошибка!","")
C43: 87-77-1635 | D43: евро | F43: МЦв | G43: Miss America | H43: ★ | I43: 2-3 | J43: 50 | K43: EU | L43: 5.62 | M43: 5.78 | N43: 5.88 | O43: 6.29 | Q43: 5 | T43: =IF(S43/J43=0,"-",S43/J43) -> - | U43: =IF(S43<10,O43*S43,IF(S43<15,N43*S43,IF(S43<J43,M43*S43,L43*S43))) -> 0 | V43: приём заказов приостановлен | W43: полумахровый | X43: 80 | Y43: 25 | Z43: ♪ | AA43: ✂ | AB43: 1936, J. R. Mann / J. J. van Steen, США | AC43: Медалист Американского общества пионов (APS США): 1956 и 1971 годы | AD43: =IF(MOD(Таблица33[[#This Row],[Заказ корней, шт. ↓]],Таблица33[[#This Row],[Кратность заказа]])>0,"Ошибка!","")
C44: 87-110-0179 | D44: евро | F44: МЦв | G44: Miss America | H44: ★ | I44: 3-5 | J44: 35 | K44: EU | L44: 7.84 | M44: 8.05 | N44: 8.2 | O44: 8.77 | Q44: 5 | R44: >50 | T44: =IF(S44/J44=0,"-",S44/J44) -> - | U44: =IF(S44<10,O44*S44,IF(S44<15,N44*S44,IF(S44<J44,M44*S44,L44*S44))) -> 0 | V44: в теч. 3-х дней после внесения аванса | W44: полумахровый | X44: 80 | Y44: 25 | Z44: ♪ | AA44: ✂ | AB44: 1936, J. R. Mann / J. J. van Steen, США | AC44: Медалист Американского общества пионов (APS США): 1956 и 1971 годы | AD44: =IF(MOD(Таблица33[[#This Row],[Заказ корней, шт. ↓]],Таблица33[[#This Row],[Кратность заказа]])>0,"Ошибка!","")
C45: 87-77-1636 | D45: евро | F45: МЦв | G45: Miss America | H45: ★ | I45: 3-5 | J45: 50 | K45: EU | L45: 7.84 | M45: 8.05 | N45: 8.2 | O45: 8.77 | Q45: 5 | T45: =IF(S45/J45=0,"-",S45/J45) -> - | U45: =IF(S45<10,O45*S45,IF(S45<15,N45*S45,IF(S45<J45,M45*S45,L45*S45))) -> 0 | V45: приём заказов приостановлен | W45: полумахровый | X45: 80 | Y45: 25 | Z45: ♪ | AA45: ✂ | AB45: 1936, J. R. Mann / J. J. van Steen, США | AC45: Медалист Американского общества пионов (APS США): 1956 и 1971 годы | AD45: =IF(MOD(Таблица33[[#This Row],[Заказ корней, шт. ↓]],Таблица33[[#This Row],[Кратность заказа]])>0,"Ошибка!","")
C46: 87-110-0471 | D46: евро | F46: МЦв | G46: Miss America | H46: ★ | I46: 5-8 | J46: 20 | K46: EU | L46: 12.21 | M46: 12.55 | N46: 12.78 | O46: 13.67 | Q46: 5 | R46: 5 | T46: =IF(S46/J46=0,"-",S46/J46) -> - | U46: =IF(S46<10,O46*S46,IF(S46<15,N46*S46,IF(S46<J46,M46*S46,L46*S46))) -> 0 | V46: в теч. 3-х дней после внесения аванса | W46: полумахровый | X46: 80 | Y46: 25 | Z46: ♪ | AA46: ✂ | AB46: 1936, J. R. Mann / J. J. van Steen, США | AC46: Медалист Американского общества пионов (APS США): 1956 и 1971 годы | AD46: =IF(MOD(Таблица33[[#This Row],[Заказ корней, шт. ↓]],Таблица33[[#This Row],[Кратность заказа]])>0,"Ошибка!","")
F47: Сорта среднего срока цветения
...

Sheet Алф. указатель и усл. обознач.
B2: Виды пионов:
B3: ИТО | C3: ИТО-гибрид
B4: МГ | C4: Межвидовый гибрид
B5: МЦв | C5: Молочноцветковый
B7: Условные обозначения
B8: 💡 | C8: новинка предложения
B9: ★ | C9: топ продаж
B10: 👍 | C10: лучшая цена
B12: Алфавитный указатель
B13: Вид | C13: Cорт | D13: Цветовая коллекция
B14: МЦв | C14: Alertie | D14: Зефирная коллекция (розовые оттенки) | E14: #'2026'!G | F14: =MATCH(C14,'2026'!$G$1:$G$3087,0) -> 109 | G14: =CONCATENATE(E14,F14) -> #'2026'!G109 | H14: =HYPERLINK(G14,"показать в прайсе") -> показать в прайсе
B15: МЦв | C15: Alexander Fleming | D15: Зефирная коллекция (розовые оттенки) | E15: #'2026'!G | F15: =MATCH(C15,'2026'!$G$1:$G$3087,0) -> 111 | G15: =CONCATENATE(E15,F15) -> #'2026'!G111 | H15: =HYPERLINK(G15,"показать в прайсе") -> показать в прайсе
B16: МЦв | C16: Amalia Olson | D16: Жемчужная коллекция (белые, кремовые оттенки) | E16: #'2026'!G | F16: =MATCH(C16,'2026'!$G$1:$G$3087,0) -> 48 | G16: =CONCATENATE(E16,F16) -> #'2026'!G48 | H16: =HYPERLINK(G16,"показать в прайсе") -> показать в прайсе
B17: МЦв | C17: Angel Cheeks | D17: Зефирная коллекция (розовые оттенки) | E17: #'2026'!G | F17: =MATCH(C17,'2026'!$G$1:$G$3087,0) -> 115 | G17: =CONCATENATE(E17,F17) -> #'2026'!G115 | H17: =HYPERLINK(G17,"показать в прайсе") -> показать в прайсе
B18: МЦв | C18: Avis Varner | D18: Рубиновая коллекция (красные, бордовые, малиновые и сиреневые оттенки) | E18: #'2026'!G | F18: =MATCH(C18,'2026'!$G$1:$G$3087,0) -> 328 | G18: =CONCATENATE(E18,F18) -> #'2026'!G328 | H18: =HYPERLINK(G18,"показать в прайсе") -> показать в прайсе
B19: ИТО | C19: Bartzella | D19: Янтарная коллекция (желтые, оранжевые и коралловые оттенки) | E19: #'2026'!G | F19: =MATCH(C19,'2026'!$G$1:$G$3087,0) -> 226 | G19: =CONCATENATE(E19,F19) -> #'2026'!G226 | H19: =HYPERLINK(G19,"показать в прайсе") -> показать в прайсе
B20: МГ | C20: Belgravia | D20: Рубиновая коллекция (красные, бордовые, малиновые и сиреневые оттенки) | E20: #'2026'!G | F20: =MATCH(C20,'2026'!$G$1:$G$3087,0) -> 330 | G20: =CONCATENATE(E20,F20) -> #'2026'!G330 | H20: =HYPERLINK(G20,"показать в прайсе") -> показать в прайсе
B21: МЦв | C21: Blush Queen | D21: Акварельная коллекция (пёстрые, многоцветные оттенки) | E21: #'2026'!G | F21: =MATCH(C21,'2026'!$G$1:$G$3087,0) -> 414 | G21: =CONCATENATE(E21,F21) -> #'2026'!G414 | H21: =HYPERLINK(G21,"показать в прайсе") -> показать в прайсе
B22: МГ | C22: Blushing Princess | D22: Зефирная коллекция (розовые оттенки) | E22: #'2026'!G | F22: =MATCH(C22,'2026'!$G$1:$G$3087,0) -> 104 | G22: =CONCATENATE(E22,F22) -> #'2026'!G104 | H22: =HYPERLINK(G22,"показать в прайсе") -> показать в прайсе
B23: МЦв | C23: Bowl of Beauty | D23: Зефирная коллекция (розовые оттенки) | E23: #'2026'!G | F23: =MATCH(C23,'2026'!$G$1:$G$3087,0) -> 123 | G23: =CONCATENATE(E23,F23) -> #'2026'!G123 | H23: =HYPERLINK(G23,"показать в прайсе") -> показать в прайсе
B24: МЦв | C24: Bowl of Cream | D24: Жемчужная коллекция (белые, кремовые оттенки) | E24: #'2026'!G | F24: =MATCH(C24,'2026'!$G$1:$G$3087,0) -> 50 | G24: =CONCATENATE(E24,F24) -> #'2026'!G50 | H24: =HYPERLINK(G24,"показать в прайсе") -> показать в прайсе
B25: МЦв | C25: Bridal Shower | D25: Жемчужная коллекция (белые, кремовые оттенки) | E25: #'2026'!G | F25: =MATCH(C25,'2026'!$G$1:$G$3087,0) -> 56 | G25: =CONCATENATE(E25,F25) -> #'2026'!G56 | H25: =HYPERLINK(G25,"показать в прайсе") -> показать в прайсе
... B144: ИТО | C144: Yankee Doodle Dandy | D144: Рубиновая коллекция (красные, бордовые, малиновые и сиреневые оттенки) | E144: #'2026'!G | F144: =MATCH(C144,'2026'!$G$1:$G$3087,0) -> 391 | G144: =CONCATENATE(E144,F144) -> #'2026'!G391 | H144: =HYPERLINK(G144,"показать в прайсе") -> показать в прайсе

Sheet Условия работы
B13: ✓ | C13: Для оформления договорных документов:
B14: Индивидуальным предпринимателям: | H14: Юридическим лицам:
C15: ● Копию свидетельства ЕГРИП | H15: ● | I15: Копию Устава
C16: ● Копию ИНН | H16: ● | I16: Копию выписки из ЕГРЮЛ
C17: ● Копию паспорта | H17: ● | I17: Копию уведомления УСН или ЕНВД
C18: ● Копию уведомления УСН или ЕНВД | H18: ● | I18: Карточку с реквизитами предприятия
B20: ✓ | C20: Для обеспечения высокого сервиса обслуживания и правильного понимания Ваших потребностей:
C21: ● Заполненную Анкету клиента
B26: ✓ | C26: Заказ должен быть заполнен в форме настоящего Прайс-листа и:
C27: ● Соответствовать его требованиям к общему минимальному заказу
C28: ● Соответствовать его требованиям к минимальному заказу / кратности на сорт
B29: ✓ | C29: Бронирование заказа осуществляется исключительно после внесения аванса для бронирования
B30: ✓ | C30: Бронирование и предварительные подтверждения по заказам предоставляются до момента выпуска Производителем готовой продукции на основании его прогнозных данных. В процессе производства эти данные могут неоднократно изменяться по независящим от Производителя причинам (пример: погодные катаклизмы)
C31: ● Исходя из этой информации Вам необходимо принять решение о сроках размещения заказа:
C32: - разместить заказ заранее и иметь возможность бронирования максимально широкого ассортимента продукции, но быть готовым к тому, что информация о первоначальном подтверждении по заказу может меняться
C33: - разместить заказ ближе к дате отгрузки из доступного на тот момент стока (как правило, небольшого по ассортименту), но сразу получить более стабильное подтверждение
C34: ● Информация о возможных сроках предоставления подтверждений указывается в Прайс-листе. Она может отличаться для разных товарных позиций одного Прайс-листа.
B35: ✓ | C35: В связи с динамично меняющимися свободными остатками часть заказа или заказ полностью могут быть не подтверждены
C36: ● Чем больше времени проходит с момента выставления счета на оплату до момента поступления оплаты на наш р/счет, тем выше вероятность неподтверждений
C37: ● В случае неподтверждения заказа мы возвращаем аванс, либо, при Вашем согласии, взамен неподтвержденных сортов предлагаем замены
B38: ✓ | C38: После внесения аванса для бронирования, частичный или полный отказ от заказа по Вашей инициативе не возможны.
B42: ✓ | C42: На протяжения всего периода работы мы будем информировать Вас обо всех изменениях, связанных с исполнением заказа
B43: ✓ | C43: Информация о вместимости, количестве и габаритах тары в Прайс-листе указаны исходя из расчетных данных Производителя. По факту сборки заказа эти параметры могут быть изменены.
C44: ● Соответственно, при изменении количества тары, габаритов тары или вместимости в тару будет изменена стоимость связанных с ней услуг по доставке, хранению и прочих
C45: ● При изменениях количества тары, габаритов тары, вместимости в тару и стоимости связанных с ней услуг, образовавшихся по факту сборки заказа, Вы не вправе требовать от нас исполнения заказа основанного на расчетных данных
B46: ✓ | C46: Вам необходимо своевременно и в полном объеме производить все оплаты по заказу
C47: ● В случае нарушения сроков оплаты по заказу, предусмотренных условиями Прайс-листа, мы оставляем за собой право аннулировать Ваш заказ и направить товар в свободную продажу. Возврат внесенных по заказу авансов будет произведен в течение 10 дней после полной реализации заказа за минусом понесенных нами затрат на доставку, сборку, хранение и прочих
B48: ✓ | C48: Мы уведомим Вас о дате готовности Товара к отгрузке
C49: ● Вам будет необходимо осуществить приемку Товара оговоренным способом в срок, не превышающий 3-х рабочих дней с момента уведомления.
B50: ✓ | C50: Товары отгружаются с нашего склада на условиях самовывоза или путем доставки до терминалов ТК (ПЭК, Желдор, Вера-1) бесплатно, а также до терминала любой другой ТК на Ваш выбор согласно установленным тарифам (уточняйте у менеджеров).
C51: ● Во избежание длительного ожидания получения заказа в очереди, отгрузка товаров с нашего склада производится на основании Графика отгрузки
C52: ● Включение заказа в график отгрузки производится после полной его оплаты и, в случае необходимости доставки заказа до терминала транспортной компании, после предоставления Вами Доверенности на право передачи заказа в транспортную компанию.
C53: ● График отгрузки утверждается не позднее 14:00 дня предшествующего отгрузке. Поэтому при оплате заказа или предоставлении доверенности после 14:00 заказ может быть включен в График отгрузки не ранее, чем через один рабочий день.
B54: ✓ | C54: Мы не несем ответственности за частичную недопоставку заказа, вызванную неурожаем, либо гибелью растений по причине рисков хранения у Производителя, а также рисков связанных с изъятием сотрудниками таможни образцов товара для взятия проб в целях фитосанитарного контроля
B59: ✓ | C59: Новинка! На каждые 5 шт корней в заказе прилагается цветная этикетка с колышком - бесплатно
B60: ✓ | C60: Гарантия сохранности пионов, в случае если на момент отгрузки корней, температурный режим в вашем регионе не будет подходить для посадки
B61: ✓ | C61: Мы предоставляем эксклюзивную возможность хранения заказов на нашем складе от 3,5 до 5 месяцев
C62: ● При выборе услуги Хранения возможны отгрузки в периоды предложенные в Прайс-листе
C63: ● Выбор услуги Хранения не предполагает изменение условий и сроков оплаты заказа указанных в Прайс-листе
B68: ✓ | C68: Мы предоставляем услуги по доставке заказов:
...

Sheet FuzzyLookup_AddIn_Undo_Sheet
A1: Артикул номенклатуры | B1: Товарная категория (Растения) | C1: Род на латыни (Растения) | D1: Род растения (Растения) | E1: Вид на латыни (Растения) | F1: Вид растения (Растения) | G1: Сорт на латыни (Растения) | H1: Сорт растения (Растения) | M1: Сорт на латыни (Растения)
A2: НВНБ-0000001 | B2: Многолетние растения, травы, злаки | C2: Iris | D2: Ирис | E2: sibirica | F2: сибирский | G2: Ama No Hana | M2: Adolphe Rousseau
A3: НВНБ-0000002 | B3: Многолетние растения, травы, злаки | C3: Iris | D3: Ирис | E3: louis | F3: луизианский | G3: Andy Dandy | M3: Alba Plena
A4: 4-10-44-3-1 | B4: Многолетние растения, травы, злаки | C4: Iris | D4: Ирис | E4: louis | F4: луизианский | G4: Ann Chowning | M4: Albert Crousse
A5: 4-10-44-1-1 | B5: Многолетние растения, травы, злаки | C5: Iris | D5: Ирис | E5: germanica | F5: германский | G5: Beverly Sills | M5: Alertie
A6: 4-10-44-3-2 | B6: Многолетние растения, травы, злаки | C6: Iris | D6: Ирис | E6: louis | F6: луизианский | G6: Black Gamecock | M6: Alexander Fleming
A7: НВНБ-0000003 | B7: Многолетние растения, травы, злаки | C7: Iris | D7: Ирис | E7: ensata | F7: мечевидный | G7: Blueberry Pie | M7: Alice Harding
A8: 4-10-44-5-1 | B8: Многолетние растения, травы, злаки | C8: Iris | D8: Ирис | E8: sibirica | F8: сибирский | G8: Bundle Of Joy | M8: All That Jazz
A9: 4-10-44-2-1 | B9: Многолетние растения, травы, злаки | C9: Iris | D9: Ирис | E9: pumila | F9: карликовый | G9: Cherry Garden | M9: Allan Rogers
A10: 2-10-71-9-17 | B10: Многолетние растения, травы, злаки | C10: Iris | D10: Ирис | E10: sibirica | F10: сибирский | G10: Concord Crush | M10: Allegro
A11: 2-10-71-9-18 | B11: Многолетние растения, травы, злаки | C11: Iris | D11: Ирис | E11: sibirica | F11: сибирский | G11: Contrast in Styles | M11: Amabilis
A12: 2-10-71-9-19 | B12: Многолетние растения, травы, злаки | C12: Iris | D12: Ирис | E12: sibirica | F12: сибирский | G12: Dance Ballerina Dance | M12: Amalia Olson
A13: 4-10-44-4-1 | B13: Многолетние растения, травы, злаки | C13: Iris | D13: Ирис | E13: ensata | F13: мечевидный | G13: Greywoods Catrina | M13: America
... A346: 4-17-43-5-7 | B346: Пионы | C346: Paeonia | D346: Пион | E346: rockii-hybrid | F346: роки-гибрид | G346: Sweet Magic=Jing Hong Fei He | M346: Yoshinogawa
A347: 2-17-129-5-154 | B347: Пионы | C347: Paeonia | D347: Пион | E347: lactIflora | F347: молочноцветковый | G347: Sweet Sixteen
A348: 2-17-129-5-155 | B348: Пионы | C348: Paeonia | D348: Пион | E348: lactIflora | F348: молочноцветковый | G348: Sword Dance
A349: НВНБ-0000094 | B349: Пионы | C349: Paeonia | D349: Пион | E349: suffruticosa | F349: древовидный | G349: Symphony
A350: НВНБ-0000095 | B350: Пионы | C350: Paeonia | D350: Пион | E350: suffruticosa | F350: древовидный | G350: Tabledancer
A351: НВНБ-0000096 | B351: Пионы | C351: Paeonia | D351: Пион | E351: suffruticosa | F351: древовидный | G351: Taiyou
A352: 2-17-129-5-157 | B352: Пионы | C352: Paeonia | D352: Пион | E352: lactIflora | F352: молочноцветковый | G352: The Fawn
A353: 2-17-129-5-158 | B353: Пионы | C353: Paeonia | D353: Пион | E353: lactIflora | F353: молочноцветковый | G353: Tom Cat
A354: 4-17-43-3-46 | B354: Пионы | C354: Paeonia | D354: Пион | E354: lactIflora | F354: молочноцветковый | G354: Top Brass
A355: НВНБ-0000097 | B355: Пионы | C355: Paeonia | D355: Пион | E355: lactIflora | F355: молочноцветковый | G355: Top Hat
A356: 4-17-43-2-28 | B356: Пионы | C356: Paeonia | D356: Пион | E356: hybrid | F356: межвидовой гибрид | G356: Vanilla Schnapps
A357: НВНБ-0000098 | B357: Пионы | C357: Paeonia | D357: Пион | E357: suffruticosa | F357: древовидный | G357: Velvet Ruby
A358: 4-17-43-3-47 | B358: Пионы | C358: Paeonia | D358: Пион | E358: lactIflora | F358: молочноцветковый | G358: Victoire de la Marne
... A375: НВНБ-0000102 | B375: Пионы | C375: Paeonia | D375: Пион | E375: suffruticosa | F375: древовидный | G375: Yoshinogawa
A376: НВНБ-0000103 | B376: Пионы | C376: Paeonia | D376: Пион | E376: in sort | F376: в ассортименте
